BEGIN:VCALENDAR
VERSION:2.0
PRODID:-//Newcastle Bridge Club - ECPv6.15.20//NONSGML v1.0//EN
CALSCALE:GREGORIAN
METHOD:PUBLISH
X-WR-CALNAME:Newcastle Bridge Club
X-ORIGINAL-URL:https://newcastlebridge.org
X-WR-CALDESC:Events for Newcastle Bridge Club
REFRESH-INTERVAL;VALUE=DURATION:PT1H
X-Robots-Tag:noindex
X-PUBLISHED-TTL:PT1H
BEGIN:VTIMEZONE
TZID:Australia/Sydney
BEGIN:STANDARD
TZOFFSETFROM:+1100
TZOFFSETTO:+1000
TZNAME:AEST
DTSTART:20210403T160000
END:STANDARD
BEGIN:DAYLIGHT
TZOFFSETFROM:+1000
TZOFFSETTO:+1100
TZNAME:AEDT
DTSTART:20211002T160000
END:DAYLIGHT
BEGIN:STANDARD
TZOFFSETFROM:+1100
TZOFFSETTO:+1000
TZNAME:AEST
DTSTART:20220402T160000
END:STANDARD
BEGIN:DAYLIGHT
TZOFFSETFROM:+1000
TZOFFSETTO:+1100
TZNAME:AEDT
DTSTART:20221001T160000
END:DAYLIGHT
BEGIN:STANDARD
TZOFFSETFROM:+1100
TZOFFSETTO:+1000
TZNAME:AEST
DTSTART:20230401T160000
END:STANDARD
BEGIN:DAYLIGHT
TZOFFSETFROM:+1000
TZOFFSETTO:+1100
TZNAME:AEDT
DTSTART:20230930T160000
END:DAYLIGHT
END:VTIMEZONE
BEGIN:VEVENT
DTSTART;TZID=Australia/Sydney:20220723T093000
DTEND;TZID=Australia/Sydney:20220724T170000
DTSTAMP:20260422T214558
CREATED:20211226T234137Z
LAST-MODIFIED:20211226T234137Z
UID:17191-1658568600-1658682000@newcastlebridge.org
SUMMARY:Brisbane Waters Congress
DESCRIPTION:
URL:https://newcastlebridge.org/event/brisbane-waters-congress/
LOCATION:Brisbane Water Bridge Club\, Cnr McMasters Rd and Ocean Beach Rd\, WOY WOY\, NSW\, Australia
CATEGORIES:Congresses
GEO:-33.5004757;151.3204507
X-APPLE-STRUCTURED-LOCATION;VALUE=URI;X-ADDRESS=Brisbane Water Bridge Club Cnr McMasters Rd and Ocean Beach Rd WOY WOY NSW Australia;X-APPLE-RADIUS=500;X-TITLE=Cnr McMasters Rd and Ocean Beach Rd:geo:151.3204507,-33.5004757
END:VEVENT
END:VCALENDAR