BEGIN:VCALENDAR
VERSION:2.0
PRODID:-//Newcastle Bridge Club - ECPv6.15.20//NONSGML v1.0//EN
CALSCALE:GREGORIAN
METHOD:PUBLISH
X-WR-CALNAME:Newcastle Bridge Club
X-ORIGINAL-URL:https://newcastlebridge.org
X-WR-CALDESC:Events for Newcastle Bridge Club
REFRESH-INTERVAL;VALUE=DURATION:PT1H
X-Robots-Tag:noindex
X-PUBLISHED-TTL:PT1H
BEGIN:VTIMEZONE
TZID:Australia/Sydney
BEGIN:STANDARD
TZOFFSETFROM:+1100
TZOFFSETTO:+1000
TZNAME:AEST
DTSTART:20220402T160000
END:STANDARD
BEGIN:DAYLIGHT
TZOFFSETFROM:+1000
TZOFFSETTO:+1100
TZNAME:AEDT
DTSTART:20221001T160000
END:DAYLIGHT
BEGIN:STANDARD
TZOFFSETFROM:+1100
TZOFFSETTO:+1000
TZNAME:AEST
DTSTART:20230401T160000
END:STANDARD
BEGIN:DAYLIGHT
TZOFFSETFROM:+1000
TZOFFSETTO:+1100
TZNAME:AEDT
DTSTART:20230930T160000
END:DAYLIGHT
BEGIN:STANDARD
TZOFFSETFROM:+1100
TZOFFSETTO:+1000
TZNAME:AEST
DTSTART:20240406T160000
END:STANDARD
BEGIN:DAYLIGHT
TZOFFSETFROM:+1000
TZOFFSETTO:+1100
TZNAME:AEDT
DTSTART:20241005T160000
END:DAYLIGHT
END:VTIMEZONE
BEGIN:VEVENT
DTSTART;TZID=Australia/Sydney:20230603T130000
DTEND;TZID=Australia/Sydney:20230603T163000
DTSTAMP:20260421T234317
CREATED:20200621T234512Z
LAST-MODIFIED:20230528T061552Z
UID:16807-1685797200-1685809800@newcastlebridge.org
SUMMARY:Saturday Afternoon - Red Point Event - Social After Play
DESCRIPTION:Attend the social after play.\nSnacks and drinks for a $2 donation.
URL:https://newcastlebridge.org/event/saturday-afternoon-2020-12-26-2023-06-03/
LOCATION:Newcastle Bridge Club\, 12 Young Road\, BROADMEADOW\, NSW\, 2292\, Australia
CATEGORIES:Special Sessions
GEO:-32.923473;151.735376
X-APPLE-STRUCTURED-LOCATION;VALUE=URI;X-ADDRESS=Newcastle Bridge Club 12 Young Road BROADMEADOW NSW 2292 Australia;X-APPLE-RADIUS=500;X-TITLE=12 Young Road:geo:151.735376,-32.923473
END:VEVENT
BEGIN:VEVENT
DTSTART;TZID=Australia/Sydney:20230606T190000
DTEND;TZID=Australia/Sydney:20230606T223000
DTSTAMP:20260421T234317
CREATED:20200621T234310Z
LAST-MODIFIED:20221231T231718Z
UID:15481-1686078000-1686090600@newcastlebridge.org
SUMMARY:Tuesday Night - June Pairs 1
DESCRIPTION:
URL:https://newcastlebridge.org/event/tuesday-night-2023-06-06/
LOCATION:Newcastle Bridge Club\, 12 Young Road\, BROADMEADOW\, NSW\, 2292\, Australia
CATEGORIES:Multi Sessions
GEO:-32.923473;151.735376
X-APPLE-STRUCTURED-LOCATION;VALUE=URI;X-ADDRESS=Newcastle Bridge Club 12 Young Road BROADMEADOW NSW 2292 Australia;X-APPLE-RADIUS=500;X-TITLE=12 Young Road:geo:151.735376,-32.923473
END:VEVENT
BEGIN:VEVENT
DTSTART;TZID=Australia/Sydney:20230608T093000
DTEND;TZID=Australia/Sydney:20230608T130000
DTSTAMP:20260421T234317
CREATED:20210630T230024Z
LAST-MODIFIED:20221231T231759Z
UID:15774-1686216600-1686229200@newcastlebridge.org
SUMMARY:Thursday Morning - June Pairs 1
DESCRIPTION:
URL:https://newcastlebridge.org/event/thursday-morning-3-2021-09-23-2023-06-08/
LOCATION:Newcastle Bridge Club\, 12 Young Road\, BROADMEADOW\, NSW\, 2292\, Australia
CATEGORIES:Multi Sessions
GEO:-32.923473;151.735376
X-APPLE-STRUCTURED-LOCATION;VALUE=URI;X-ADDRESS=Newcastle Bridge Club 12 Young Road BROADMEADOW NSW 2292 Australia;X-APPLE-RADIUS=500;X-TITLE=12 Young Road:geo:151.735376,-32.923473
END:VEVENT
BEGIN:VEVENT
DTSTART;TZID=Australia/Sydney:20230609T093000
DTEND;TZID=Australia/Sydney:20230609T130000
DTSTAMP:20260421T234317
CREATED:20200621T233022Z
LAST-MODIFIED:20221231T231841Z
UID:15485-1686303000-1686315600@newcastlebridge.org
SUMMARY:Friday Morning - One Day Pairs - Red Point Event
DESCRIPTION:
URL:https://newcastlebridge.org/event/friday-morning-2-2023-06-09/
LOCATION:Newcastle Bridge Club\, 12 Young Road\, BROADMEADOW\, NSW\, 2292\, Australia
CATEGORIES:Special Sessions
GEO:-32.923473;151.735376
X-APPLE-STRUCTURED-LOCATION;VALUE=URI;X-ADDRESS=Newcastle Bridge Club 12 Young Road BROADMEADOW NSW 2292 Australia;X-APPLE-RADIUS=500;X-TITLE=12 Young Road:geo:151.735376,-32.923473
END:VEVENT
BEGIN:VEVENT
DTSTART;TZID=Australia/Sydney:20230613T190000
DTEND;TZID=Australia/Sydney:20230613T223000
DTSTAMP:20260421T234317
CREATED:20200621T234310Z
LAST-MODIFIED:20221231T231913Z
UID:15587-1686682800-1686695400@newcastlebridge.org
SUMMARY:Tuesday Night - June Pairs 2
DESCRIPTION:
URL:https://newcastlebridge.org/event/tuesday-night-2023-06-13/
LOCATION:Newcastle Bridge Club\, 12 Young Road\, BROADMEADOW\, NSW\, 2292\, Australia
CATEGORIES:Multi Sessions
GEO:-32.923473;151.735376
X-APPLE-STRUCTURED-LOCATION;VALUE=URI;X-ADDRESS=Newcastle Bridge Club 12 Young Road BROADMEADOW NSW 2292 Australia;X-APPLE-RADIUS=500;X-TITLE=12 Young Road:geo:151.735376,-32.923473
END:VEVENT
BEGIN:VEVENT
DTSTART;TZID=Australia/Sydney:20230615T093000
DTEND;TZID=Australia/Sydney:20230615T130000
DTSTAMP:20260421T234317
CREATED:20210630T230024Z
LAST-MODIFIED:20221231T231945Z
UID:15775-1686821400-1686834000@newcastlebridge.org
SUMMARY:Thursday Morning - June Pairs 2
DESCRIPTION:
URL:https://newcastlebridge.org/event/thursday-morning-3-2021-09-23-2023-06-15/
LOCATION:Newcastle Bridge Club\, 12 Young Road\, BROADMEADOW\, NSW\, 2292\, Australia
CATEGORIES:Multi Sessions
GEO:-32.923473;151.735376
X-APPLE-STRUCTURED-LOCATION;VALUE=URI;X-ADDRESS=Newcastle Bridge Club 12 Young Road BROADMEADOW NSW 2292 Australia;X-APPLE-RADIUS=500;X-TITLE=12 Young Road:geo:151.735376,-32.923473
END:VEVENT
BEGIN:VEVENT
DTSTART;TZID=Australia/Sydney:20230617T130000
DTEND;TZID=Australia/Sydney:20230617T163000
DTSTAMP:20260421T234317
CREATED:20200621T234512Z
LAST-MODIFIED:20230411T221637Z
UID:16809-1687006800-1687019400@newcastlebridge.org
SUMMARY:Saturday Afternoon
DESCRIPTION:
URL:https://newcastlebridge.org/event/saturday-afternoon-2020-12-26-2023-06-17/
LOCATION:Newcastle Bridge Club\, 12 Young Road\, BROADMEADOW\, NSW\, 2292\, Australia
CATEGORIES:session
GEO:-32.923473;151.735376
X-APPLE-STRUCTURED-LOCATION;VALUE=URI;X-ADDRESS=Newcastle Bridge Club 12 Young Road BROADMEADOW NSW 2292 Australia;X-APPLE-RADIUS=500;X-TITLE=12 Young Road:geo:151.735376,-32.923473
END:VEVENT
BEGIN:VEVENT
DTSTART;TZID=Australia/Sydney:20230620T190000
DTEND;TZID=Australia/Sydney:20230620T223000
DTSTAMP:20260421T234317
CREATED:20200621T234310Z
LAST-MODIFIED:20221231T232026Z
UID:15592-1687287600-1687300200@newcastlebridge.org
SUMMARY:Tuesday Night - June Pairs 3
DESCRIPTION:
URL:https://newcastlebridge.org/event/tuesday-night-2023-06-20/
LOCATION:Newcastle Bridge Club\, 12 Young Road\, BROADMEADOW\, NSW\, 2292\, Australia
CATEGORIES:Multi Sessions
GEO:-32.923473;151.735376
X-APPLE-STRUCTURED-LOCATION;VALUE=URI;X-ADDRESS=Newcastle Bridge Club 12 Young Road BROADMEADOW NSW 2292 Australia;X-APPLE-RADIUS=500;X-TITLE=12 Young Road:geo:151.735376,-32.923473
END:VEVENT
BEGIN:VEVENT
DTSTART;TZID=Australia/Sydney:20230622T093000
DTEND;TZID=Australia/Sydney:20230622T130000
DTSTAMP:20260421T234317
CREATED:20210630T230024Z
LAST-MODIFIED:20221231T232100Z
UID:15776-1687426200-1687438800@newcastlebridge.org
SUMMARY:Thursday Morning - June Pairs 3
DESCRIPTION:
URL:https://newcastlebridge.org/event/thursday-morning-3-2021-09-23-2023-06-22/
LOCATION:Newcastle Bridge Club\, 12 Young Road\, BROADMEADOW\, NSW\, 2292\, Australia
CATEGORIES:Multi Sessions
GEO:-32.923473;151.735376
X-APPLE-STRUCTURED-LOCATION;VALUE=URI;X-ADDRESS=Newcastle Bridge Club 12 Young Road BROADMEADOW NSW 2292 Australia;X-APPLE-RADIUS=500;X-TITLE=12 Young Road:geo:151.735376,-32.923473
END:VEVENT
BEGIN:VEVENT
DTSTART;TZID=Australia/Sydney:20230627T093000
DTEND;TZID=Australia/Sydney:20230627T130000
DTSTAMP:20260421T234317
CREATED:20200621T233350Z
LAST-MODIFIED:20230604T224110Z
UID:16888-1687858200-1687870800@newcastlebridge.org
SUMMARY:Tuesday Morning - One Day Teams - Red Point Event
DESCRIPTION:When registering please enter Pair 1 as Player 1 and Pair 2 as Player 2
URL:https://newcastlebridge.org/event/tuesday-morning-2023-06-27/
LOCATION:Newcastle Bridge Club\, 12 Young Road\, BROADMEADOW\, NSW\, 2292\, Australia
CATEGORIES:Special Sessions
GEO:-32.923473;151.735376
X-APPLE-STRUCTURED-LOCATION;VALUE=URI;X-ADDRESS=Newcastle Bridge Club 12 Young Road BROADMEADOW NSW 2292 Australia;X-APPLE-RADIUS=500;X-TITLE=12 Young Road:geo:151.735376,-32.923473
END:VEVENT
BEGIN:VEVENT
DTSTART;TZID=Australia/Sydney:20230627T190000
DTEND;TZID=Australia/Sydney:20230627T223000
DTSTAMP:20260421T234317
CREATED:20200621T234310Z
LAST-MODIFIED:20221231T232659Z
UID:15676-1687892400-1687905000@newcastlebridge.org
SUMMARY:Tuesday Night
DESCRIPTION:
URL:https://newcastlebridge.org/event/tuesday-night-2023-06-27/
LOCATION:Newcastle Bridge Club\, 12 Young Road\, BROADMEADOW\, NSW\, 2292\, Australia
CATEGORIES:session
GEO:-32.923473;151.735376
X-APPLE-STRUCTURED-LOCATION;VALUE=URI;X-ADDRESS=Newcastle Bridge Club 12 Young Road BROADMEADOW NSW 2292 Australia;X-APPLE-RADIUS=500;X-TITLE=12 Young Road:geo:151.735376,-32.923473
END:VEVENT
END:VCALENDAR