BEGIN:VCALENDAR
VERSION:2.0
PRODID:-//Newcastle Bridge Club - ECPv6.15.20//NONSGML v1.0//EN
CALSCALE:GREGORIAN
METHOD:PUBLISH
X-WR-CALNAME:Newcastle Bridge Club
X-ORIGINAL-URL:https://newcastlebridge.org
X-WR-CALDESC:Events for Newcastle Bridge Club
REFRESH-INTERVAL;VALUE=DURATION:PT1H
X-Robots-Tag:noindex
X-PUBLISHED-TTL:PT1H
BEGIN:VTIMEZONE
TZID:Australia/Sydney
BEGIN:STANDARD
TZOFFSETFROM:+1100
TZOFFSETTO:+1000
TZNAME:AEST
DTSTART:20220402T160000
END:STANDARD
BEGIN:DAYLIGHT
TZOFFSETFROM:+1000
TZOFFSETTO:+1100
TZNAME:AEDT
DTSTART:20221001T160000
END:DAYLIGHT
BEGIN:STANDARD
TZOFFSETFROM:+1100
TZOFFSETTO:+1000
TZNAME:AEST
DTSTART:20230401T160000
END:STANDARD
BEGIN:DAYLIGHT
TZOFFSETFROM:+1000
TZOFFSETTO:+1100
TZNAME:AEDT
DTSTART:20230930T160000
END:DAYLIGHT
BEGIN:STANDARD
TZOFFSETFROM:+1100
TZOFFSETTO:+1000
TZNAME:AEST
DTSTART:20240406T160000
END:STANDARD
BEGIN:DAYLIGHT
TZOFFSETFROM:+1000
TZOFFSETTO:+1100
TZNAME:AEDT
DTSTART:20241005T160000
END:DAYLIGHT
END:VTIMEZONE
BEGIN:VEVENT
DTSTART;VALUE=DATE:20231201
DTEND;VALUE=DATE:20231205
DTSTAMP:20260425T125045
CREATED:20230101T002427Z
LAST-MODIFIED:20230101T002427Z
UID:18383-1701388800-1701734399@newcastlebridge.org
SUMMARY:GNOT Finals
DESCRIPTION:
URL:https://newcastlebridge.org/event/gnot-finals-2/
LOCATION:Unnamed Venue\, NSW
CATEGORIES:ABF Events
ORGANIZER;CN="ABF":MAILTO:secretariat@abf.com.au
GEO:-31.2532183;146.921099
END:VEVENT
BEGIN:VEVENT
DTSTART;TZID=Australia/Sydney:20231209T130000
DTEND;TZID=Australia/Sydney:20231209T163000
DTSTAMP:20260425T125045
CREATED:20200621T234512Z
LAST-MODIFIED:20231127T225611Z
UID:16834-1702126800-1702139400@newcastlebridge.org
SUMMARY:Saturday Afternoon - Xmas Party at 12 noon
DESCRIPTION:
URL:https://newcastlebridge.org/event/saturday-afternoon-2020-12-26-2023-12-09/
LOCATION:Newcastle Bridge Club\, 12 Young Road\, BROADMEADOW\, NSW\, 2292\, Australia
CATEGORIES:session
GEO:-32.923473;151.735376
X-APPLE-STRUCTURED-LOCATION;VALUE=URI;X-ADDRESS=Newcastle Bridge Club 12 Young Road BROADMEADOW NSW 2292 Australia;X-APPLE-RADIUS=500;X-TITLE=12 Young Road:geo:151.735376,-32.923473
END:VEVENT
BEGIN:VEVENT
DTSTART;TZID=Australia/Sydney:20231225T093000
DTEND;TZID=Australia/Sydney:20231225T120000
DTSTAMP:20260425T125045
CREATED:20200828T054121Z
LAST-MODIFIED:20231208T010314Z
UID:17171-1703496600-1703505600@newcastlebridge.org
SUMMARY:Xmas Day - No bridge
DESCRIPTION:
URL:https://newcastlebridge.org/event/monday-morning-2023-12-25/
LOCATION:Newcastle Bridge Club\, 12 Young Road\, BROADMEADOW\, NSW\, 2292\, Australia
CATEGORIES:session
GEO:-32.923473;151.735376
X-APPLE-STRUCTURED-LOCATION;VALUE=URI;X-ADDRESS=Newcastle Bridge Club 12 Young Road BROADMEADOW NSW 2292 Australia;X-APPLE-RADIUS=500;X-TITLE=12 Young Road:geo:151.735376,-32.923473
END:VEVENT
BEGIN:VEVENT
DTSTART;TZID=Australia/Sydney:20231225T130000
DTEND;TZID=Australia/Sydney:20231225T163000
DTSTAMP:20260425T125045
CREATED:20200621T234154Z
LAST-MODIFIED:20231208T010002Z
UID:17170-1703509200-1703521800@newcastlebridge.org
SUMMARY:Xmas Day - No bridge
DESCRIPTION:
URL:https://newcastlebridge.org/event/monday-afternoon-2023-12-25/
LOCATION:Newcastle Bridge Club\, 12 Young Road\, BROADMEADOW\, NSW\, 2292\, Australia
CATEGORIES:session
GEO:-32.923473;151.735376
X-APPLE-STRUCTURED-LOCATION;VALUE=URI;X-ADDRESS=Newcastle Bridge Club 12 Young Road BROADMEADOW NSW 2292 Australia;X-APPLE-RADIUS=500;X-TITLE=12 Young Road:geo:151.735376,-32.923473
END:VEVENT
BEGIN:VEVENT
DTSTART;TZID=Australia/Sydney:20231226T093000
DTEND;TZID=Australia/Sydney:20231226T130000
DTSTAMP:20260425T125045
CREATED:20200621T233350Z
LAST-MODIFIED:20231208T010025Z
UID:17208-1703583000-1703595600@newcastlebridge.org
SUMMARY:Boxing Day - No bridge
DESCRIPTION:
URL:https://newcastlebridge.org/event/tuesday-morning-2023-12-26/
LOCATION:Newcastle Bridge Club\, 12 Young Road\, BROADMEADOW\, NSW\, 2292\, Australia
CATEGORIES:session
GEO:-32.923473;151.735376
X-APPLE-STRUCTURED-LOCATION;VALUE=URI;X-ADDRESS=Newcastle Bridge Club 12 Young Road BROADMEADOW NSW 2292 Australia;X-APPLE-RADIUS=500;X-TITLE=12 Young Road:geo:151.735376,-32.923473
END:VEVENT
BEGIN:VEVENT
DTSTART;TZID=Australia/Sydney:20231226T190000
DTEND;TZID=Australia/Sydney:20231226T223000
DTSTAMP:20260425T125045
CREATED:20200621T234310Z
LAST-MODIFIED:20231208T010340Z
UID:17207-1703617200-1703629800@newcastlebridge.org
SUMMARY:Boxing Day - No bridge
DESCRIPTION:
URL:https://newcastlebridge.org/event/tuesday-night-2023-12-26/
LOCATION:Newcastle Bridge Club\, 12 Young Road\, BROADMEADOW\, NSW\, 2292\, Australia
CATEGORIES:session
GEO:-32.923473;151.735376
X-APPLE-STRUCTURED-LOCATION;VALUE=URI;X-ADDRESS=Newcastle Bridge Club 12 Young Road BROADMEADOW NSW 2292 Australia;X-APPLE-RADIUS=500;X-TITLE=12 Young Road:geo:151.735376,-32.923473
END:VEVENT
END:VCALENDAR