BEGIN:VCALENDAR
VERSION:2.0
PRODID:-//Newcastle Bridge Club - ECPv6.15.20//NONSGML v1.0//EN
CALSCALE:GREGORIAN
METHOD:PUBLISH
X-ORIGINAL-URL:https://newcastlebridge.org
X-WR-CALDESC:Events for Newcastle Bridge Club
REFRESH-INTERVAL;VALUE=DURATION:PT1H
X-Robots-Tag:noindex
X-PUBLISHED-TTL:PT1H
BEGIN:VTIMEZONE
TZID:Australia/Sydney
BEGIN:STANDARD
TZOFFSETFROM:+1100
TZOFFSETTO:+1000
TZNAME:AEST
DTSTART:20200404T160000
END:STANDARD
BEGIN:DAYLIGHT
TZOFFSETFROM:+1000
TZOFFSETTO:+1100
TZNAME:AEDT
DTSTART:20201003T160000
END:DAYLIGHT
BEGIN:STANDARD
TZOFFSETFROM:+1100
TZOFFSETTO:+1000
TZNAME:AEST
DTSTART:20210403T160000
END:STANDARD
BEGIN:DAYLIGHT
TZOFFSETFROM:+1000
TZOFFSETTO:+1100
TZNAME:AEDT
DTSTART:20211002T160000
END:DAYLIGHT
BEGIN:STANDARD
TZOFFSETFROM:+1100
TZOFFSETTO:+1000
TZNAME:AEST
DTSTART:20220402T160000
END:STANDARD
BEGIN:DAYLIGHT
TZOFFSETFROM:+1000
TZOFFSETTO:+1100
TZNAME:AEDT
DTSTART:20221001T160000
END:DAYLIGHT
END:VTIMEZONE
BEGIN:VEVENT
DTSTART;TZID=Australia/Sydney:20211007T093000
DTEND;TZID=Australia/Sydney:20211007T130000
DTSTAMP:20260425T005658
CREATED:20200621T232403Z
LAST-MODIFIED:20211006T045138Z
UID:14577-1633599000-1633611600@newcastlebridge.org
SUMMARY:Thursday Morning
DESCRIPTION:
URL:https://newcastlebridge.org/event/thursday-morning-2021-10-07/
LOCATION:Newcastle Bridge Club\, 12 Young Road\, BROADMEADOW\, NSW\, 2292\, Australia
CATEGORIES:session
GEO:-32.923473;151.735376
X-APPLE-STRUCTURED-LOCATION;VALUE=URI;X-ADDRESS=Newcastle Bridge Club 12 Young Road BROADMEADOW NSW 2292 Australia;X-APPLE-RADIUS=500;X-TITLE=12 Young Road:geo:151.735376,-32.923473
END:VEVENT
BEGIN:VEVENT
DTSTART;VALUE=DATE:20211009
DTEND;VALUE=DATE:20211011
DTSTAMP:20260425T005658
CREATED:20140505T104807Z
LAST-MODIFIED:20210101T021945Z
UID:297-1633737600-1633910399@newcastlebridge.org
SUMMARY:Muswellbrook Congress
DESCRIPTION:
URL:https://newcastlebridge.org/event/muswellbrook-congress/
LOCATION:St James Primary School Muswellbrook\, Skellatar Stock Rte\, Muswellbrook\, NSW\, 2333\, Australia
CATEGORIES:Congresses
ORGANIZER;CN="Muswellbrook Bridge Club":MAILTO:ebattist@bigpond.net.au
GEO:-32.2796152;150.8815689
X-APPLE-STRUCTURED-LOCATION;VALUE=URI;X-ADDRESS=St James Primary School Muswellbrook Skellatar Stock Rte Muswellbrook NSW 2333 Australia;X-APPLE-RADIUS=500;X-TITLE=Skellatar Stock Rte:geo:150.8815689,-32.2796152
END:VEVENT
END:VCALENDAR