BEGIN:VCALENDAR
VERSION:2.0
PRODID:-//Newcastle Bridge Club - ECPv6.15.20//NONSGML v1.0//EN
CALSCALE:GREGORIAN
METHOD:PUBLISH
X-ORIGINAL-URL:https://newcastlebridge.org
X-WR-CALDESC:Events for Newcastle Bridge Club
REFRESH-INTERVAL;VALUE=DURATION:PT1H
X-Robots-Tag:noindex
X-PUBLISHED-TTL:PT1H
BEGIN:VTIMEZONE
TZID:Australia/Sydney
BEGIN:STANDARD
TZOFFSETFROM:+1100
TZOFFSETTO:+1000
TZNAME:AEST
DTSTART:20210403T160000
END:STANDARD
BEGIN:DAYLIGHT
TZOFFSETFROM:+1000
TZOFFSETTO:+1100
TZNAME:AEDT
DTSTART:20211002T160000
END:DAYLIGHT
BEGIN:STANDARD
TZOFFSETFROM:+1100
TZOFFSETTO:+1000
TZNAME:AEST
DTSTART:20220402T160000
END:STANDARD
BEGIN:DAYLIGHT
TZOFFSETFROM:+1000
TZOFFSETTO:+1100
TZNAME:AEDT
DTSTART:20221001T160000
END:DAYLIGHT
BEGIN:STANDARD
TZOFFSETFROM:+1100
TZOFFSETTO:+1000
TZNAME:AEST
DTSTART:20230401T160000
END:STANDARD
BEGIN:DAYLIGHT
TZOFFSETFROM:+1000
TZOFFSETTO:+1100
TZNAME:AEDT
DTSTART:20230930T160000
END:DAYLIGHT
END:VTIMEZONE
BEGIN:VEVENT
DTSTART;TZID=Australia/Sydney:20220809T093000
DTEND;TZID=Australia/Sydney:20220814T170000
DTSTAMP:20260420T001143
CREATED:20211226T234314Z
LAST-MODIFIED:20211226T234314Z
UID:17193-1660037400-1660496400@newcastlebridge.org
SUMMARY:Coffs Gold Congress
DESCRIPTION:
URL:https://newcastlebridge.org/event/coffs-gold-congress/
LOCATION:Opal Cove Resort\, Opal Blvd\, Korora\, NSW\, 2450
CATEGORIES:ABF Events
GEO:-30.2503604;153.1378752
X-APPLE-STRUCTURED-LOCATION;VALUE=URI;X-ADDRESS=Opal Cove Resort Opal Blvd Korora NSW 2450;X-APPLE-RADIUS=500;X-TITLE=Opal Blvd:geo:153.1378752,-30.2503604
END:VEVENT
BEGIN:VEVENT
DTSTART;TZID=Australia/Sydney:20220810T133000
DTEND;TZID=Australia/Sydney:20220810T153000
DTSTAMP:20260420T001143
CREATED:20220805T053509Z
LAST-MODIFIED:20220806T020208Z
UID:17699-1660138200-1660145400@newcastlebridge.org
SUMMARY:Chris Dibley Lesson 4 On Defence
DESCRIPTION:Introduction to Better Defending at Bridge \n1.30pm – 2.00pm\nLunch and discussion of the morning hands \n2.00pm – 3.30pm\n20 sample hands and how to do the best defence on each
URL:https://newcastlebridge.org/event/chris-dibley-lesson-4-on-defence/
LOCATION:Newcastle Bridge Club\, 12 Young Road\, BROADMEADOW\, NSW\, 2292\, Australia
CATEGORIES:Special Sessions
GEO:-32.923473;151.735376
X-APPLE-STRUCTURED-LOCATION;VALUE=URI;X-ADDRESS=Newcastle Bridge Club 12 Young Road BROADMEADOW NSW 2292 Australia;X-APPLE-RADIUS=500;X-TITLE=12 Young Road:geo:151.735376,-32.923473
END:VEVENT
END:VCALENDAR