BEGIN:VCALENDAR
VERSION:2.0
PRODID:-//Newcastle Bridge Club - ECPv6.15.20//NONSGML v1.0//EN
CALSCALE:GREGORIAN
METHOD:PUBLISH
X-ORIGINAL-URL:https://newcastlebridge.org
X-WR-CALDESC:Events for Newcastle Bridge Club
REFRESH-INTERVAL;VALUE=DURATION:PT1H
X-Robots-Tag:noindex
X-PUBLISHED-TTL:PT1H
BEGIN:VTIMEZONE
TZID:Australia/Sydney
BEGIN:STANDARD
TZOFFSETFROM:+1100
TZOFFSETTO:+1000
TZNAME:AEST
DTSTART:20260404T160000
END:STANDARD
BEGIN:DAYLIGHT
TZOFFSETFROM:+1000
TZOFFSETTO:+1100
TZNAME:AEDT
DTSTART:20261003T160000
END:DAYLIGHT
BEGIN:STANDARD
TZOFFSETFROM:+1100
TZOFFSETTO:+1000
TZNAME:AEST
DTSTART:20270403T160000
END:STANDARD
BEGIN:DAYLIGHT
TZOFFSETFROM:+1000
TZOFFSETTO:+1100
TZNAME:AEDT
DTSTART:20271002T160000
END:DAYLIGHT
BEGIN:STANDARD
TZOFFSETFROM:+1100
TZOFFSETTO:+1000
TZNAME:AEST
DTSTART:20280401T160000
END:STANDARD
BEGIN:DAYLIGHT
TZOFFSETFROM:+1000
TZOFFSETTO:+1100
TZNAME:AEDT
DTSTART:20280930T160000
END:DAYLIGHT
END:VTIMEZONE
BEGIN:VEVENT
DTSTART;TZID=Australia/Sydney:20270906T093000
DTEND;TZID=Australia/Sydney:20270906T120000
DTSTAMP:20260423T011945
CREATED:20200828T054121Z
LAST-MODIFIED:20200828T054121Z
UID:23018-1820223000-1820232000@newcastlebridge.org
SUMMARY:Monday Morning Supervised
DESCRIPTION:
URL:https://newcastlebridge.org/event/monday-morning/2027-09-06/
LOCATION:Newcastle Bridge Club\, 12 Young Road\, BROADMEADOW\, NSW\, 2292\, Australia
CATEGORIES:session
GEO:-32.923473;151.735376
X-APPLE-STRUCTURED-LOCATION;VALUE=URI;X-ADDRESS=Newcastle Bridge Club 12 Young Road BROADMEADOW NSW 2292 Australia;X-APPLE-RADIUS=500;X-TITLE=12 Young Road:geo:151.735376,-32.923473
END:VEVENT
BEGIN:VEVENT
DTSTART;TZID=Australia/Sydney:20270906T130000
DTEND;TZID=Australia/Sydney:20270906T163000
DTSTAMP:20260423T011945
CREATED:20200621T234154Z
LAST-MODIFIED:20200621T234154Z
UID:23017-1820235600-1820248200@newcastlebridge.org
SUMMARY:Monday Afternoon
DESCRIPTION:
URL:https://newcastlebridge.org/event/monday-afternoon/2027-09-06/
LOCATION:Newcastle Bridge Club\, 12 Young Road\, BROADMEADOW\, NSW\, 2292\, Australia
CATEGORIES:session
GEO:-32.923473;151.735376
X-APPLE-STRUCTURED-LOCATION;VALUE=URI;X-ADDRESS=Newcastle Bridge Club 12 Young Road BROADMEADOW NSW 2292 Australia;X-APPLE-RADIUS=500;X-TITLE=12 Young Road:geo:151.735376,-32.923473
END:VEVENT
BEGIN:VEVENT
DTSTART;TZID=Australia/Sydney:20270907T093000
DTEND;TZID=Australia/Sydney:20270907T130000
DTSTAMP:20260423T011945
CREATED:20200621T233350Z
LAST-MODIFIED:20260204T042707Z
UID:23019-1820309400-1820322000@newcastlebridge.org
SUMMARY:Tuesday Morning
DESCRIPTION:
URL:https://newcastlebridge.org/event/tuesday-morning/2027-09-07/
LOCATION:Newcastle Bridge Club\, 12 Young Road\, BROADMEADOW\, NSW\, 2292\, Australia
CATEGORIES:session
GEO:-32.923473;151.735376
X-APPLE-STRUCTURED-LOCATION;VALUE=URI;X-ADDRESS=Newcastle Bridge Club 12 Young Road BROADMEADOW NSW 2292 Australia;X-APPLE-RADIUS=500;X-TITLE=12 Young Road:geo:151.735376,-32.923473
END:VEVENT
BEGIN:VEVENT
DTSTART;TZID=Australia/Sydney:20270907T183000
DTEND;TZID=Australia/Sydney:20270907T220000
DTSTAMP:20260423T011945
CREATED:20200621T234310Z
LAST-MODIFIED:20200621T234310Z
UID:23020-1820341800-1820354400@newcastlebridge.org
SUMMARY:Tuesday Night
DESCRIPTION:
URL:https://newcastlebridge.org/event/tuesday-night/2027-09-07/
LOCATION:Newcastle Bridge Club\, 12 Young Road\, BROADMEADOW\, NSW\, 2292\, Australia
CATEGORIES:session
GEO:-32.923473;151.735376
X-APPLE-STRUCTURED-LOCATION;VALUE=URI;X-ADDRESS=Newcastle Bridge Club 12 Young Road BROADMEADOW NSW 2292 Australia;X-APPLE-RADIUS=500;X-TITLE=12 Young Road:geo:151.735376,-32.923473
END:VEVENT
BEGIN:VEVENT
DTSTART;TZID=Australia/Sydney:20270908T100000
DTEND;TZID=Australia/Sydney:20270908T133000
DTSTAMP:20260423T011945
CREATED:20200621T232220Z
LAST-MODIFIED:20200621T232220Z
UID:23022-1820397600-1820410200@newcastlebridge.org
SUMMARY:Wednesday Morning
DESCRIPTION:
URL:https://newcastlebridge.org/event/wednesday-morning/2027-09-08/
LOCATION:Newcastle Bridge Club\, 12 Young Road\, BROADMEADOW\, NSW\, 2292\, Australia
CATEGORIES:session
GEO:-32.923473;151.735376
X-APPLE-STRUCTURED-LOCATION;VALUE=URI;X-ADDRESS=Newcastle Bridge Club 12 Young Road BROADMEADOW NSW 2292 Australia;X-APPLE-RADIUS=500;X-TITLE=12 Young Road:geo:151.735376,-32.923473
END:VEVENT
BEGIN:VEVENT
DTSTART;TZID=Australia/Sydney:20270908T141500
DTEND;TZID=Australia/Sydney:20270908T163000
DTSTAMP:20260423T011945
CREATED:20250302T063104Z
LAST-MODIFIED:20250302T063104Z
UID:24415-1820412900-1820421000@newcastlebridge.org
SUMMARY:Wednesday Afternoon Supervised
DESCRIPTION:
URL:https://newcastlebridge.org/event/wednesday-afternoon-supervised/2027-09-08/
LOCATION:Newcastle Bridge Club\, 12 Young Road\, BROADMEADOW\, NSW\, 2292\, Australia
CATEGORIES:session
GEO:-32.923473;151.735376
X-APPLE-STRUCTURED-LOCATION;VALUE=URI;X-ADDRESS=Newcastle Bridge Club 12 Young Road BROADMEADOW NSW 2292 Australia;X-APPLE-RADIUS=500;X-TITLE=12 Young Road:geo:151.735376,-32.923473
END:VEVENT
BEGIN:VEVENT
DTSTART;TZID=Australia/Sydney:20270909T093000
DTEND;TZID=Australia/Sydney:20270909T130000
DTSTAMP:20260423T011945
CREATED:20210630T230024Z
LAST-MODIFIED:20210630T230024Z
UID:23031-1820482200-1820494800@newcastlebridge.org
SUMMARY:Thursday Morning
DESCRIPTION:
URL:https://newcastlebridge.org/event/thursday-morning-3-2021-09-23/2027-09-09/
LOCATION:Newcastle Bridge Club\, 12 Young Road\, BROADMEADOW\, NSW\, 2292\, Australia
CATEGORIES:session
GEO:-32.923473;151.735376
X-APPLE-STRUCTURED-LOCATION;VALUE=URI;X-ADDRESS=Newcastle Bridge Club 12 Young Road BROADMEADOW NSW 2292 Australia;X-APPLE-RADIUS=500;X-TITLE=12 Young Road:geo:151.735376,-32.923473
END:VEVENT
BEGIN:VEVENT
DTSTART;TZID=Australia/Sydney:20270910T093000
DTEND;TZID=Australia/Sydney:20270910T130000
DTSTAMP:20260423T011945
CREATED:20200621T233022Z
LAST-MODIFIED:20200621T233022Z
UID:23032-1820568600-1820581200@newcastlebridge.org
SUMMARY:Friday Morning
DESCRIPTION:
URL:https://newcastlebridge.org/event/friday-morning-2/2027-09-10/
LOCATION:Newcastle Bridge Club\, 12 Young Road\, BROADMEADOW\, NSW\, 2292\, Australia
CATEGORIES:session
GEO:-32.923473;151.735376
X-APPLE-STRUCTURED-LOCATION;VALUE=URI;X-ADDRESS=Newcastle Bridge Club 12 Young Road BROADMEADOW NSW 2292 Australia;X-APPLE-RADIUS=500;X-TITLE=12 Young Road:geo:151.735376,-32.923473
END:VEVENT
BEGIN:VEVENT
DTSTART;TZID=Australia/Sydney:20270911T130000
DTEND;TZID=Australia/Sydney:20270911T163000
DTSTAMP:20260423T011945
CREATED:20240203T063334Z
LAST-MODIFIED:20251025T230228Z
UID:23033-1820667600-1820680200@newcastlebridge.org
SUMMARY:Saturday Afternoon
DESCRIPTION:
URL:https://newcastlebridge.org/event/saturday-afternoon-2/2027-09-11/
LOCATION:Newcastle Bridge Club\, 12 Young Road\, BROADMEADOW\, NSW\, 2292\, Australia
CATEGORIES:session
GEO:-32.923473;151.735376
X-APPLE-STRUCTURED-LOCATION;VALUE=URI;X-ADDRESS=Newcastle Bridge Club 12 Young Road BROADMEADOW NSW 2292 Australia;X-APPLE-RADIUS=500;X-TITLE=12 Young Road:geo:151.735376,-32.923473
END:VEVENT
END:VCALENDAR