BEGIN:VCALENDAR
VERSION:2.0
PRODID:-//Newcastle Bridge Club - ECPv6.15.20//NONSGML v1.0//EN
CALSCALE:GREGORIAN
METHOD:PUBLISH
X-WR-CALNAME:Newcastle Bridge Club
X-ORIGINAL-URL:https://newcastlebridge.org
X-WR-CALDESC:Events for Newcastle Bridge Club
REFRESH-INTERVAL;VALUE=DURATION:PT1H
X-Robots-Tag:noindex
X-PUBLISHED-TTL:PT1H
BEGIN:VTIMEZONE
TZID:Australia/Sydney
BEGIN:STANDARD
TZOFFSETFROM:+1100
TZOFFSETTO:+1000
TZNAME:AEST
DTSTART:20260404T160000
END:STANDARD
BEGIN:DAYLIGHT
TZOFFSETFROM:+1000
TZOFFSETTO:+1100
TZNAME:AEDT
DTSTART:20261003T160000
END:DAYLIGHT
BEGIN:STANDARD
TZOFFSETFROM:+1100
TZOFFSETTO:+1000
TZNAME:AEST
DTSTART:20270403T160000
END:STANDARD
BEGIN:DAYLIGHT
TZOFFSETFROM:+1000
TZOFFSETTO:+1100
TZNAME:AEDT
DTSTART:20271002T160000
END:DAYLIGHT
BEGIN:STANDARD
TZOFFSETFROM:+1100
TZOFFSETTO:+1000
TZNAME:AEST
DTSTART:20280401T160000
END:STANDARD
BEGIN:DAYLIGHT
TZOFFSETFROM:+1000
TZOFFSETTO:+1100
TZNAME:AEDT
DTSTART:20280930T160000
END:DAYLIGHT
END:VTIMEZONE
BEGIN:VEVENT
DTSTART;TZID=Australia/Sydney:20271011T093000
DTEND;TZID=Australia/Sydney:20271011T120000
DTSTAMP:20260422T093517
CREATED:20200828T054121Z
LAST-MODIFIED:20200828T054121Z
UID:23110-1823247000-1823256000@newcastlebridge.org
SUMMARY:Monday Morning Supervised
DESCRIPTION:
URL:https://newcastlebridge.org/event/monday-morning/2027-10-11/
LOCATION:Newcastle Bridge Club\, 12 Young Road\, BROADMEADOW\, NSW\, 2292\, Australia
CATEGORIES:session
GEO:-32.923473;151.735376
X-APPLE-STRUCTURED-LOCATION;VALUE=URI;X-ADDRESS=Newcastle Bridge Club 12 Young Road BROADMEADOW NSW 2292 Australia;X-APPLE-RADIUS=500;X-TITLE=12 Young Road:geo:151.735376,-32.923473
END:VEVENT
BEGIN:VEVENT
DTSTART;TZID=Australia/Sydney:20271011T130000
DTEND;TZID=Australia/Sydney:20271011T163000
DTSTAMP:20260422T093517
CREATED:20200621T234154Z
LAST-MODIFIED:20200621T234154Z
UID:23109-1823259600-1823272200@newcastlebridge.org
SUMMARY:Monday Afternoon
DESCRIPTION:
URL:https://newcastlebridge.org/event/monday-afternoon/2027-10-11/
LOCATION:Newcastle Bridge Club\, 12 Young Road\, BROADMEADOW\, NSW\, 2292\, Australia
CATEGORIES:session
GEO:-32.923473;151.735376
X-APPLE-STRUCTURED-LOCATION;VALUE=URI;X-ADDRESS=Newcastle Bridge Club 12 Young Road BROADMEADOW NSW 2292 Australia;X-APPLE-RADIUS=500;X-TITLE=12 Young Road:geo:151.735376,-32.923473
END:VEVENT
BEGIN:VEVENT
DTSTART;TZID=Australia/Sydney:20271012T093000
DTEND;TZID=Australia/Sydney:20271012T130000
DTSTAMP:20260422T093517
CREATED:20200621T233350Z
LAST-MODIFIED:20260204T042707Z
UID:23111-1823333400-1823346000@newcastlebridge.org
SUMMARY:Tuesday Morning
DESCRIPTION:
URL:https://newcastlebridge.org/event/tuesday-morning/2027-10-12/
LOCATION:Newcastle Bridge Club\, 12 Young Road\, BROADMEADOW\, NSW\, 2292\, Australia
CATEGORIES:session
GEO:-32.923473;151.735376
X-APPLE-STRUCTURED-LOCATION;VALUE=URI;X-ADDRESS=Newcastle Bridge Club 12 Young Road BROADMEADOW NSW 2292 Australia;X-APPLE-RADIUS=500;X-TITLE=12 Young Road:geo:151.735376,-32.923473
END:VEVENT
BEGIN:VEVENT
DTSTART;TZID=Australia/Sydney:20271012T183000
DTEND;TZID=Australia/Sydney:20271012T220000
DTSTAMP:20260422T093517
CREATED:20200621T234310Z
LAST-MODIFIED:20200621T234310Z
UID:23112-1823365800-1823378400@newcastlebridge.org
SUMMARY:Tuesday Night
DESCRIPTION:
URL:https://newcastlebridge.org/event/tuesday-night/2027-10-12/
LOCATION:Newcastle Bridge Club\, 12 Young Road\, BROADMEADOW\, NSW\, 2292\, Australia
CATEGORIES:session
GEO:-32.923473;151.735376
X-APPLE-STRUCTURED-LOCATION;VALUE=URI;X-ADDRESS=Newcastle Bridge Club 12 Young Road BROADMEADOW NSW 2292 Australia;X-APPLE-RADIUS=500;X-TITLE=12 Young Road:geo:151.735376,-32.923473
END:VEVENT
BEGIN:VEVENT
DTSTART;TZID=Australia/Sydney:20271013T100000
DTEND;TZID=Australia/Sydney:20271013T133000
DTSTAMP:20260422T093517
CREATED:20200621T232220Z
LAST-MODIFIED:20200621T232220Z
UID:23113-1823421600-1823434200@newcastlebridge.org
SUMMARY:Wednesday Morning
DESCRIPTION:
URL:https://newcastlebridge.org/event/wednesday-morning/2027-10-13/
LOCATION:Newcastle Bridge Club\, 12 Young Road\, BROADMEADOW\, NSW\, 2292\, Australia
CATEGORIES:session
GEO:-32.923473;151.735376
X-APPLE-STRUCTURED-LOCATION;VALUE=URI;X-ADDRESS=Newcastle Bridge Club 12 Young Road BROADMEADOW NSW 2292 Australia;X-APPLE-RADIUS=500;X-TITLE=12 Young Road:geo:151.735376,-32.923473
END:VEVENT
BEGIN:VEVENT
DTSTART;TZID=Australia/Sydney:20271013T141500
DTEND;TZID=Australia/Sydney:20271013T163000
DTSTAMP:20260422T093517
CREATED:20250302T063104Z
LAST-MODIFIED:20250302T063104Z
UID:24420-1823436900-1823445000@newcastlebridge.org
SUMMARY:Wednesday Afternoon Supervised
DESCRIPTION:
URL:https://newcastlebridge.org/event/wednesday-afternoon-supervised/2027-10-13/
LOCATION:Newcastle Bridge Club\, 12 Young Road\, BROADMEADOW\, NSW\, 2292\, Australia
CATEGORIES:session
GEO:-32.923473;151.735376
X-APPLE-STRUCTURED-LOCATION;VALUE=URI;X-ADDRESS=Newcastle Bridge Club 12 Young Road BROADMEADOW NSW 2292 Australia;X-APPLE-RADIUS=500;X-TITLE=12 Young Road:geo:151.735376,-32.923473
END:VEVENT
BEGIN:VEVENT
DTSTART;TZID=Australia/Sydney:20271014T093000
DTEND;TZID=Australia/Sydney:20271014T130000
DTSTAMP:20260422T093517
CREATED:20210630T230024Z
LAST-MODIFIED:20210630T230024Z
UID:23116-1823506200-1823518800@newcastlebridge.org
SUMMARY:Thursday Morning
DESCRIPTION:
URL:https://newcastlebridge.org/event/thursday-morning-3-2021-09-23/2027-10-14/
LOCATION:Newcastle Bridge Club\, 12 Young Road\, BROADMEADOW\, NSW\, 2292\, Australia
CATEGORIES:session
GEO:-32.923473;151.735376
X-APPLE-STRUCTURED-LOCATION;VALUE=URI;X-ADDRESS=Newcastle Bridge Club 12 Young Road BROADMEADOW NSW 2292 Australia;X-APPLE-RADIUS=500;X-TITLE=12 Young Road:geo:151.735376,-32.923473
END:VEVENT
BEGIN:VEVENT
DTSTART;TZID=Australia/Sydney:20271015T093000
DTEND;TZID=Australia/Sydney:20271015T130000
DTSTAMP:20260422T093517
CREATED:20200621T233022Z
LAST-MODIFIED:20200621T233022Z
UID:23123-1823592600-1823605200@newcastlebridge.org
SUMMARY:Friday Morning
DESCRIPTION:
URL:https://newcastlebridge.org/event/friday-morning-2/2027-10-15/
LOCATION:Newcastle Bridge Club\, 12 Young Road\, BROADMEADOW\, NSW\, 2292\, Australia
CATEGORIES:session
GEO:-32.923473;151.735376
X-APPLE-STRUCTURED-LOCATION;VALUE=URI;X-ADDRESS=Newcastle Bridge Club 12 Young Road BROADMEADOW NSW 2292 Australia;X-APPLE-RADIUS=500;X-TITLE=12 Young Road:geo:151.735376,-32.923473
END:VEVENT
BEGIN:VEVENT
DTSTART;TZID=Australia/Sydney:20271016T130000
DTEND;TZID=Australia/Sydney:20271016T163000
DTSTAMP:20260422T093517
CREATED:20240203T063334Z
LAST-MODIFIED:20251025T230228Z
UID:23124-1823691600-1823704200@newcastlebridge.org
SUMMARY:Saturday Afternoon
DESCRIPTION:
URL:https://newcastlebridge.org/event/saturday-afternoon-2/2027-10-16/
LOCATION:Newcastle Bridge Club\, 12 Young Road\, BROADMEADOW\, NSW\, 2292\, Australia
CATEGORIES:session
GEO:-32.923473;151.735376
X-APPLE-STRUCTURED-LOCATION;VALUE=URI;X-ADDRESS=Newcastle Bridge Club 12 Young Road BROADMEADOW NSW 2292 Australia;X-APPLE-RADIUS=500;X-TITLE=12 Young Road:geo:151.735376,-32.923473
END:VEVENT
END:VCALENDAR