BEGIN:VCALENDAR
VERSION:2.0
PRODID:-//Newcastle Bridge Club - ECPv6.15.20//NONSGML v1.0//EN
CALSCALE:GREGORIAN
METHOD:PUBLISH
X-WR-CALNAME:Newcastle Bridge Club
X-ORIGINAL-URL:https://newcastlebridge.org
X-WR-CALDESC:Events for Newcastle Bridge Club
REFRESH-INTERVAL;VALUE=DURATION:PT1H
X-Robots-Tag:noindex
X-PUBLISHED-TTL:PT1H
BEGIN:VTIMEZONE
TZID:Australia/Sydney
BEGIN:STANDARD
TZOFFSETFROM:+1100
TZOFFSETTO:+1000
TZNAME:AEST
DTSTART:20270403T160000
END:STANDARD
BEGIN:DAYLIGHT
TZOFFSETFROM:+1000
TZOFFSETTO:+1100
TZNAME:AEDT
DTSTART:20271002T160000
END:DAYLIGHT
BEGIN:STANDARD
TZOFFSETFROM:+1100
TZOFFSETTO:+1000
TZNAME:AEST
DTSTART:20280401T160000
END:STANDARD
BEGIN:DAYLIGHT
TZOFFSETFROM:+1000
TZOFFSETTO:+1100
TZNAME:AEDT
DTSTART:20280930T160000
END:DAYLIGHT
BEGIN:STANDARD
TZOFFSETFROM:+1100
TZOFFSETTO:+1000
TZNAME:AEST
DTSTART:20290331T160000
END:STANDARD
BEGIN:DAYLIGHT
TZOFFSETFROM:+1000
TZOFFSETTO:+1100
TZNAME:AEDT
DTSTART:20291006T160000
END:DAYLIGHT
END:VTIMEZONE
BEGIN:VEVENT
DTSTART;TZID=Australia/Sydney:20280110T093000
DTEND;TZID=Australia/Sydney:20280110T120000
DTSTAMP:20260422T163001
CREATED:20200828T054121Z
LAST-MODIFIED:20200828T054121Z
UID:24116-1831109400-1831118400@newcastlebridge.org
SUMMARY:Monday Morning Supervised
DESCRIPTION:
URL:https://newcastlebridge.org/event/monday-morning/2028-01-10/
LOCATION:Newcastle Bridge Club\, 12 Young Road\, BROADMEADOW\, NSW\, 2292\, Australia
CATEGORIES:session
GEO:-32.923473;151.735376
X-APPLE-STRUCTURED-LOCATION;VALUE=URI;X-ADDRESS=Newcastle Bridge Club 12 Young Road BROADMEADOW NSW 2292 Australia;X-APPLE-RADIUS=500;X-TITLE=12 Young Road:geo:151.735376,-32.923473
END:VEVENT
BEGIN:VEVENT
DTSTART;TZID=Australia/Sydney:20280110T130000
DTEND;TZID=Australia/Sydney:20280110T163000
DTSTAMP:20260422T163001
CREATED:20200621T234154Z
LAST-MODIFIED:20200621T234154Z
UID:24115-1831122000-1831134600@newcastlebridge.org
SUMMARY:Monday Afternoon
DESCRIPTION:
URL:https://newcastlebridge.org/event/monday-afternoon/2028-01-10/
LOCATION:Newcastle Bridge Club\, 12 Young Road\, BROADMEADOW\, NSW\, 2292\, Australia
CATEGORIES:session
GEO:-32.923473;151.735376
X-APPLE-STRUCTURED-LOCATION;VALUE=URI;X-ADDRESS=Newcastle Bridge Club 12 Young Road BROADMEADOW NSW 2292 Australia;X-APPLE-RADIUS=500;X-TITLE=12 Young Road:geo:151.735376,-32.923473
END:VEVENT
BEGIN:VEVENT
DTSTART;TZID=Australia/Sydney:20280111T093000
DTEND;TZID=Australia/Sydney:20280111T130000
DTSTAMP:20260422T163001
CREATED:20200621T233350Z
LAST-MODIFIED:20260204T042708Z
UID:24117-1831195800-1831208400@newcastlebridge.org
SUMMARY:Tuesday Morning
DESCRIPTION:
URL:https://newcastlebridge.org/event/tuesday-morning/2028-01-11/
LOCATION:Newcastle Bridge Club\, 12 Young Road\, BROADMEADOW\, NSW\, 2292\, Australia
CATEGORIES:session
GEO:-32.923473;151.735376
X-APPLE-STRUCTURED-LOCATION;VALUE=URI;X-ADDRESS=Newcastle Bridge Club 12 Young Road BROADMEADOW NSW 2292 Australia;X-APPLE-RADIUS=500;X-TITLE=12 Young Road:geo:151.735376,-32.923473
END:VEVENT
BEGIN:VEVENT
DTSTART;TZID=Australia/Sydney:20280111T183000
DTEND;TZID=Australia/Sydney:20280111T220000
DTSTAMP:20260422T163001
CREATED:20200621T234310Z
LAST-MODIFIED:20200621T234310Z
UID:24118-1831228200-1831240800@newcastlebridge.org
SUMMARY:Tuesday Night
DESCRIPTION:
URL:https://newcastlebridge.org/event/tuesday-night/2028-01-11/
LOCATION:Newcastle Bridge Club\, 12 Young Road\, BROADMEADOW\, NSW\, 2292\, Australia
CATEGORIES:session
GEO:-32.923473;151.735376
X-APPLE-STRUCTURED-LOCATION;VALUE=URI;X-ADDRESS=Newcastle Bridge Club 12 Young Road BROADMEADOW NSW 2292 Australia;X-APPLE-RADIUS=500;X-TITLE=12 Young Road:geo:151.735376,-32.923473
END:VEVENT
BEGIN:VEVENT
DTSTART;TZID=Australia/Sydney:20280112T100000
DTEND;TZID=Australia/Sydney:20280112T133000
DTSTAMP:20260422T163001
CREATED:20200621T232220Z
LAST-MODIFIED:20200621T232220Z
UID:24120-1831284000-1831296600@newcastlebridge.org
SUMMARY:Wednesday Morning
DESCRIPTION:
URL:https://newcastlebridge.org/event/wednesday-morning/2028-01-12/
LOCATION:Newcastle Bridge Club\, 12 Young Road\, BROADMEADOW\, NSW\, 2292\, Australia
CATEGORIES:session
GEO:-32.923473;151.735376
X-APPLE-STRUCTURED-LOCATION;VALUE=URI;X-ADDRESS=Newcastle Bridge Club 12 Young Road BROADMEADOW NSW 2292 Australia;X-APPLE-RADIUS=500;X-TITLE=12 Young Road:geo:151.735376,-32.923473
END:VEVENT
BEGIN:VEVENT
DTSTART;TZID=Australia/Sydney:20280112T141500
DTEND;TZID=Australia/Sydney:20280112T163000
DTSTAMP:20260422T163001
CREATED:20250302T063104Z
LAST-MODIFIED:20250302T063104Z
UID:24433-1831299300-1831307400@newcastlebridge.org
SUMMARY:Wednesday Afternoon Supervised
DESCRIPTION:
URL:https://newcastlebridge.org/event/wednesday-afternoon-supervised/2028-01-12/
LOCATION:Newcastle Bridge Club\, 12 Young Road\, BROADMEADOW\, NSW\, 2292\, Australia
CATEGORIES:session
GEO:-32.923473;151.735376
X-APPLE-STRUCTURED-LOCATION;VALUE=URI;X-ADDRESS=Newcastle Bridge Club 12 Young Road BROADMEADOW NSW 2292 Australia;X-APPLE-RADIUS=500;X-TITLE=12 Young Road:geo:151.735376,-32.923473
END:VEVENT
BEGIN:VEVENT
DTSTART;TZID=Australia/Sydney:20280113T093000
DTEND;TZID=Australia/Sydney:20280113T130000
DTSTAMP:20260422T163001
CREATED:20210630T230024Z
LAST-MODIFIED:20210630T230024Z
UID:24124-1831368600-1831381200@newcastlebridge.org
SUMMARY:Thursday Morning
DESCRIPTION:
URL:https://newcastlebridge.org/event/thursday-morning-3-2021-09-23/2028-01-13/
LOCATION:Newcastle Bridge Club\, 12 Young Road\, BROADMEADOW\, NSW\, 2292\, Australia
CATEGORIES:session
GEO:-32.923473;151.735376
X-APPLE-STRUCTURED-LOCATION;VALUE=URI;X-ADDRESS=Newcastle Bridge Club 12 Young Road BROADMEADOW NSW 2292 Australia;X-APPLE-RADIUS=500;X-TITLE=12 Young Road:geo:151.735376,-32.923473
END:VEVENT
BEGIN:VEVENT
DTSTART;TZID=Australia/Sydney:20280114T093000
DTEND;TZID=Australia/Sydney:20280114T130000
DTSTAMP:20260422T163001
CREATED:20200621T233022Z
LAST-MODIFIED:20200621T233022Z
UID:24128-1831455000-1831467600@newcastlebridge.org
SUMMARY:Friday Morning
DESCRIPTION:
URL:https://newcastlebridge.org/event/friday-morning-2/2028-01-14/
LOCATION:Newcastle Bridge Club\, 12 Young Road\, BROADMEADOW\, NSW\, 2292\, Australia
CATEGORIES:session
GEO:-32.923473;151.735376
X-APPLE-STRUCTURED-LOCATION;VALUE=URI;X-ADDRESS=Newcastle Bridge Club 12 Young Road BROADMEADOW NSW 2292 Australia;X-APPLE-RADIUS=500;X-TITLE=12 Young Road:geo:151.735376,-32.923473
END:VEVENT
BEGIN:VEVENT
DTSTART;TZID=Australia/Sydney:20280115T130000
DTEND;TZID=Australia/Sydney:20280115T163000
DTSTAMP:20260422T163001
CREATED:20240203T063334Z
LAST-MODIFIED:20240203T063334Z
UID:24130-1831554000-1831566600@newcastlebridge.org
SUMMARY:Saturday Afternoon
DESCRIPTION:
URL:https://newcastlebridge.org/event/saturday-afternoon-2/2028-01-15/
LOCATION:Newcastle Bridge Club\, 12 Young Road\, BROADMEADOW\, NSW\, 2292\, Australia
CATEGORIES:session
GEO:-32.923473;151.735376
X-APPLE-STRUCTURED-LOCATION;VALUE=URI;X-ADDRESS=Newcastle Bridge Club 12 Young Road BROADMEADOW NSW 2292 Australia;X-APPLE-RADIUS=500;X-TITLE=12 Young Road:geo:151.735376,-32.923473
END:VEVENT
END:VCALENDAR